BEGIN:VCALENDAR
VERSION:2.0
PRODID:-//HPE GreenLake y TDSYNNEX - ECPv6.0.13.1//NONSGML v1.0//EN
CALSCALE:GREGORIAN
METHOD:PUBLISH
X-WR-CALNAME:HPE GreenLake y TDSYNNEX
X-ORIGINAL-URL:https://hpegreenlake.holatdsynnex.com
X-WR-CALDESC:Eventos para HPE GreenLake y TDSYNNEX
REFRESH-INTERVAL;VALUE=DURATION:PT1H
X-Robots-Tag:noindex
X-PUBLISHED-TTL:PT1H
BEGIN:VTIMEZONE
TZID:UTC
BEGIN:STANDARD
TZOFFSETFROM:+0000
TZOFFSETTO:+0000
TZNAME:UTC
DTSTART:20230101T000000
END:STANDARD
END:VTIMEZONE
BEGIN:VEVENT
DTSTART;TZID=UTC:20230919T100000
DTEND;TZID=UTC:20230919T110000
DTSTAMP:20260424T094200
CREATED:20230823T091943Z
LAST-MODIFIED:20230823T093443Z
UID:277-1695117600-1695121200@hpegreenlake.holatdsynnex.com
SUMMARY:Soluciones de Almacenamiento de HPE para PYMES
DESCRIPTION:En un mundo empresarial en constante evolución\, el almacenamiento eficiente y escalable es esencial para el éxito de cualquier PYME. \nAcelera la modernización basada en datos simplificando radicalmente la gestión de estos con la solución más completa del sector para guardarlos\, gestionarlos y protegerlos en toda la nube híbrida. \nDescubre cómo HPE puede ser tu aliado en el camino hacia un almacenamiento de alto rendimiento. ¡Te esperamos! \nAgenda:\n– Solución de almacenamiento de ficheros con gestión Windows: StoreEasy.– Amplia la capacidad de almacenamiento en la PYME con las cabinas MSA \n			\n				Regístrate aquí
URL:https://hpegreenlake.holatdsynnex.com/calendario/soluciones-de-almacenamiento-de-hpe-para-pymes/
CATEGORIES:Webinars
END:VEVENT
END:VCALENDAR